BEGIN:VCALENDAR
VERSION:2.0
PRODID:-//Tukios.com/
BEGIN:VEVENT
UID:3c2107c2-73dd-4223-8407-1619df1c09ec@www.johnmoakey.com
DTSTAMP:20260422T032922Z
DTSTART:20260423T210000Z
DTEND:20260423T230000Z
SUMMARY:Visitation
DESCRIPTION:
URL:https://www.johnmoakey.com/obituaries/shirley-epperly
LOCATION:John M. Oakey & Son Chapel 305 Roanoke Boulevard  Salem VA 24153
GEO:37.29027;-80.0532188
END:VEVENT
END:VCALENDAR