BEGIN:VCALENDAR
VERSION:2.0
PRODID:-//Tukios.com/
BEGIN:VEVENT
UID:41930ffd-d2f0-43c3-b2f8-902900e57da4@www.johnmoakey.com
DTSTAMP:20260422T032745Z
DTSTART:20260424T140000Z
DTEND:20260424T150000Z
SUMMARY:Funeral Service
DESCRIPTION:
URL:https://www.johnmoakey.com/obituaries/shirley-epperly
LOCATION:John M. Oakey & Son Chapel 305 Roanoke Boulevard  Salem VA 24153
GEO:37.29027;-80.0532188
END:VEVENT
END:VCALENDAR