BEGIN:VCALENDAR
VERSION:2.0
PRODID:-//Tukios.com/
BEGIN:VEVENT
UID:464420e9-0f8c-4f2b-a5fc-11beb70e55a4@www.johnmoakey.com
DTSTAMP:20260422T032745Z
DTSTART:20260424T150000Z
DTEND:20260424T153000Z
SUMMARY:Burial to follow service
DESCRIPTION:
URL:https://www.johnmoakey.com/obituaries/shirley-epperly
LOCATION:East Hill Cemetery 730 East Main Street  Salem VA 24153
GEO:37.2932134;-80.0475546
END:VEVENT
END:VCALENDAR