BEGIN:VCALENDAR
VERSION:2.0
PRODID:-//Tukios.com/
BEGIN:VEVENT
UID:c384d993-6f63-451c-902e-5a5a3b58f41c@www.johnmoakey.com
DTSTAMP:20260421T034728Z
DTSTART:20260423T180000Z
DTEND:20260423T190000Z
SUMMARY:Memorial Service
DESCRIPTION:
URL:https://www.johnmoakey.com/obituaries/nancy-lewis
LOCATION:John M. Oakey & Son Chapel 305 Roanoke Boulevard  Salem VA 24153
GEO:37.29027;-80.0532188
END:VEVENT
END:VCALENDAR