BEGIN:VCALENDAR
VERSION:2.0
PRODID:-//Tukios.com/
BEGIN:VEVENT
UID:a4f8b4fd-ff2c-4b8c-9592-f85abd6ac518@www.johnmoakey.com
DTSTAMP:20260421T035221Z
DTSTART:20260423T170000Z
DTEND:20260423T180000Z
SUMMARY:Visitation
DESCRIPTION:
URL:https://www.johnmoakey.com/obituaries/nancy-lewis
LOCATION:John M. Oakey & Son Chapel 305 Roanoke Boulevard  Salem VA 24153
GEO:37.29027;-80.0532188
END:VEVENT
END:VCALENDAR