BEGIN:VCALENDAR
VERSION:2.0
PRODID:-//Tukios.com/
BEGIN:VEVENT
UID:2f43bf0e-9c2a-478a-b427-cd821339df15@www.johnmoakey.com
DTSTAMP:20260421T035914Z
DTSTART:20260423T190000Z
DTEND:20260423T193000Z
SUMMARY:Interment
DESCRIPTION:
URL:https://www.johnmoakey.com/obituaries/nancy-lewis
LOCATION:Sherwood Memorial Park 1250 East Main Street  Salem VA 24153
GEO:37.2966937;-80.034878
END:VEVENT
END:VCALENDAR