BEGIN:VCALENDAR
VERSION:2.0
PRODID:-//Tukios.com/
BEGIN:VEVENT
UID:5f38364d-8d80-4b54-bc26-9244545637e4@www.johnmoakey.com
DTSTAMP:20260423T082613Z
DTSTART:20260427T173000Z
DTEND:20260427T181500Z
SUMMARY:Graveside Service
DESCRIPTION:Those planning to attend the graveside service are asked to 
	join the procession from the funeral home by 12:50 p.m. on the day of the 
	service.
URL:https://www.johnmoakey.com/obituaries/murel-suggs
LOCATION: 5731 Airport RD NW  Roanoke VA 24012
GEO:37.3250876;-79.9641719
END:VEVENT
END:VCALENDAR