BEGIN:VCALENDAR
VERSION:2.0
PRODID:-//Tukios.com/
BEGIN:VEVENT
UID:495fe6ec-7be4-4c91-9302-a851ec45a31c@www.johnmoakey.com
DTSTAMP:20260423T082337Z
DTSTART:20260427T153000Z
DTEND:20260427T170000Z
SUMMARY:Visitation
DESCRIPTION:
URL:https://www.johnmoakey.com/obituaries/murel-suggs
LOCATION: 305 Roanoke Blvd  Salem VA 24153
GEO:37.29027;-80.0532188
END:VEVENT
END:VCALENDAR