BEGIN:VCALENDAR
VERSION:2.0
PRODID:-//Tukios.com/
BEGIN:VEVENT
UID:1ba29826-ed43-482a-9c37-fcb48bbeaa40@www.johnmoakey.com
DTSTAMP:20260424T041215Z
DTSTART:20260425T160000Z
DTEND:20260425T170000Z
SUMMARY:Funeral Service
DESCRIPTION:
URL:https://www.johnmoakey.com/obituaries/mark-phoenix
LOCATION:Shawsville Congregational Holiness Church 674 Alleghany Spring 
	Rd  Shawsville VA 24162
GEO:37.157273;-80.2548321
END:VEVENT
END:VCALENDAR