BEGIN:VCALENDAR
VERSION:2.0
PRODID:-//Tukios.com/
BEGIN:VEVENT
UID:266311ce-300a-4dfa-8456-8413618854bb@www.johnmoakey.com
DTSTAMP:20260424T042206Z
DTSTART:20260425T150000Z
DTEND:20260425T160000Z
SUMMARY:Visitation
DESCRIPTION:
URL:https://www.johnmoakey.com/obituaries/mark-phoenix
LOCATION:Shawsville Congregational Holiness Church 674 Alleghany Spring 
	Rd  Shawsville VA 24162
GEO:37.157273;-80.2548321
END:VEVENT
END:VCALENDAR