BEGIN:VCALENDAR
VERSION:2.0
PRODID:-//Tukios.com/
BEGIN:VEVENT
UID:252bf252-92e1-4da3-a949-416d2d2b3679@www.johnmoakey.com
DTSTAMP:20260423T205439Z
DTSTART:20260502T170000Z
DTEND:20260502T180000Z
SUMMARY:Funeral Service
DESCRIPTION:
URL:https://www.johnmoakey.com/obituaries/jean-mattera
LOCATION: 1307 Summit Avenue Southwest  Roanoke VA 24015
GEO:37.2592874;-79.9679452
END:VEVENT
END:VCALENDAR