BEGIN:VCALENDAR
VERSION:2.0
PRODID:-//Tukios.com/
BEGIN:VEVENT
UID:d2d0218b-4bce-4aa1-8f6c-2312c1614f53@www.johnmoakey.com
DTSTAMP:20260423T205433Z
DTSTART:20260502T160000Z
DTEND:20260502T170000Z
SUMMARY:Visitation
DESCRIPTION:
URL:https://www.johnmoakey.com/obituaries/jean-mattera
LOCATION: 305 Roanoke Blvd  Salem VA 24153
GEO:37.29027;-80.0532188
END:VEVENT
END:VCALENDAR